BEGIN:VCALENDAR
VERSION:2.0
PRODID:-//ERT//LNF26//DE
VERSION:2.0
BEGIN:VEVENT
UID:station_4723_20260324T160000Z
DTSTAMP:20260420T003200Z
URL:https://ert.langenachtderforschung.at/station/4723
DTSTART:20260324T160000Z
DTEND:20260424T200000Z
SUMMARY:[LNF26] Worauf kommt es bei der Auswahl der richtigen Pumpe an?
DESCRIPTION:Die international renommierte ANDRITZ GRUPPE baut seit mehr als 170 Jahren Pumpen. Wir bieten innovative und zielgerichtete Pumpenlösungen und komplette Pumpstationen an. Unsere langjährige Erfahrung in der hydraulischen Maschinenfertigung und Prozess-Knowhow bilden die Basis für den hohen Standard der ANDRITZ Pumpentechnik.
LOCATION:Andritzer Reichsstraße 68B Halle F1 &amp; F3, 8045 Graz
GEO:47.10774894;15.41774109
END:VEVENT
END:VCALENDAR