BEGIN:VCALENDAR
VERSION:2.0
PRODID:-//ERT//LNF26//DE
VERSION:2.0
BEGIN:VEVENT
UID:station_4725_20260324T160000Z
DTSTAMP:20260419T211000Z
URL:https://ert.langenachtderforschung.at/station/4725
DTSTART:20260324T160000Z
DTEND:20260424T200000Z
SUMMARY:[LNF26] Wie können Kräfte und Drehmomente mittels Dehnmessstreifen gemessen werden?
DESCRIPTION:Ein wichtiger Bestandteil der Erforschung und Entwicklungen von Pumpen besteht in der Erfassung der Kräfte und der Drehmomente auf belastete Bauteile. Diese können beispielsweise die Axialkräfte bzw. die Radialkräfte auf Lager sowie die Drehmomente, die auf die Antriebswelle wirken, sein. Ein gängiges Verfahren zur Erfassung dieser Belastungen ist die Messung über Dehnungsmessstreifen.
LOCATION:Andritzer Reichsstraße 68B Halle F1 &amp; F3, 8045 Graz
GEO:47.10774894;15.41774109
END:VEVENT
END:VCALENDAR