BEGIN:VCALENDAR
VERSION:2.0
PRODID:-//ERT//LNF26//DE
VERSION:2.0
BEGIN:VEVENT
UID:station_4728_20260324T160000Z
DTSTAMP:20260420T003700Z
URL:https://ert.langenachtderforschung.at/station/4728
DTSTART:20260324T160000Z
DTEND:20260424T200000Z
SUMMARY:[LNF26] Gibt es auch Forschung in der Lehrlingsausbildung bei ANDRITZ?
DESCRIPTION:Erkunden Sie, wie spannend technische Ausbildung und Forschung sein können: Am gemeinsamen Stand von Lehrlingsausbildung und HR erleben Sie eine Peltonturbine im Modell, stellen Ihre Geschicklichkeit unter Beweis, formen Ihre eigene Peltonschaufel und lösen Verbindungstechnik-Puzzles. Eine 360°-Tour, Drohnenvideos und Gespräche mit Lehrlingen und Recruiter:innen geben Einblicke in Ausbildung und Karriere bei ANDRITZ.
LOCATION:Andritzer Reichsstraße 68B Halle F1 &amp; F3, 8045 Graz
GEO:47.10774894;15.41774109
END:VEVENT
END:VCALENDAR