BEGIN:VCALENDAR
VERSION:2.0
PRODID:-//ERT//LNF26//DE
VERSION:2.0
BEGIN:VEVENT
UID:station_4744_20260324T160000Z
DTSTAMP:20260419T211000Z
URL:https://ert.langenachtderforschung.at/station/4744
DTSTART:20260324T160000Z
DTEND:20260424T200000Z
SUMMARY:[LNF26] Wieviel Kraft wird benötigt, um eine Pumpe anzutreiben?
DESCRIPTION:Bei dieser Station können Forscher:innen eine Pumpe, die auf einem Prüfstand installiert ist mit eigener Kraft oder mit Hilfe eines Akkuschraubers betreiben.
LOCATION:Andritzer Reichsstraße 68B Halle F1 &amp; F3, 8045 Graz
GEO:47.10774894;15.41774109
END:VEVENT
END:VCALENDAR