BEGIN:VCALENDAR
VERSION:2.0
PRODID:-//ERT//LNF26//DE
VERSION:2.0
BEGIN:VEVENT
UID:station_4745_20260324T160000Z
DTSTAMP:20260422T212300Z
URL:https://ert.langenachtderforschung.at/station/4745
DTSTART:20260324T160000Z
DTEND:20260424T204500Z
SUMMARY:[LNF26] Faszination Radiologie – Wie kann man Unsichtbares sichtbar machen?
DESCRIPTION:An dieser Station erfahren die Teilnehmer:innen spannende Informationen über das breite Spektrum der medizinischen Bildgebung und erhalten, anhand von praktischen Untersuchungen an Phantomen, Informationen über die Funktionsweise der unterschiedlichen Technologien. Die Teilnehmer:innen können auch anhand eines mobilen Ultraschallgerätes und eines Computertomographen (mikro-CT) selbst Aufnahmen anfertigen!
LOCATION:Johannes-Gutenberg-Straße 3 Innovation Lab und Area27 (J. Gutenberg-Straße 5), 2700 Wiener Neustadt
GEO:47.83811166;16.24962151
END:VEVENT
END:VCALENDAR