BEGIN:VCALENDAR
VERSION:2.0
PRODID:-//ERT//LNF26//DE
VERSION:2.0
BEGIN:VEVENT
UID:station_4796_20260424T171500Z
DTSTAMP:20260423T222600Z
URL:https://ert.langenachtderforschung.at/station/4796
DTSTART:20260424T171500Z
DTEND:20260424T173000Z
SUMMARY:[LNF26] Wie gut kennst du unser Planetensystem?
DESCRIPTION:Der Stiegenaufgang im Observatorium lädt zur Wanderung durch unser Sonnensystem ein und veranschaulicht die Größen und Abstandsverhältnisse in unserer unmittelbaren kosmischen Nachbarschaft. Astrophysiker:innen der Universität Graz erklären unser Planetensystem sowie faszinierende Phänomene des Universums.
LOCATION:Lustbühelstraße 46, 8042 Graz
GEO:47.06702390;15.49353233
END:VEVENT
END:VCALENDAR