BEGIN:VCALENDAR
VERSION:2.0
PRODID:-//ERT//LNF26//DE
VERSION:2.0
BEGIN:VEVENT
UID:station_4798_20260324T160000Z
DTSTAMP:20260423T233600Z
URL:https://ert.langenachtderforschung.at/station/4798
DTSTART:20260324T160000Z
DTEND:20260424T210000Z
SUMMARY:[LNF26] Wie viele Sterne kannst du sehen?
DESCRIPTION:Auf dem Gelände vor dem Observatorium erklären Astrophysiker:innen der Universität Graz den Nachthimmel und seine Phänomene, abhängig vom Wetter, sowie alles rund um die Forschungsthemen und das Studium der Astrophysik.
LOCATION:Lustbühelstraße 46, 8042 Graz
GEO:47.06702390;15.49353233
END:VEVENT
END:VCALENDAR