BEGIN:VCALENDAR
VERSION:2.0
PRODID:-//ERT//LNF26//DE
VERSION:2.0
BEGIN:VEVENT
UID:station_4799_20260424T150000Z
DTSTAMP:20260423T223000Z
URL:https://ert.langenachtderforschung.at/station/4799
DTSTART:20260424T150000Z
DTEND:20260424T151500Z
SUMMARY:[LNF26] Womit arbeiten Astrophysiker:innen?
DESCRIPTION:Mit dem 0,5 Meter großen Spiegelteleskop blicken Astrophysiker:innen der Universität Graz in den Nachthimmel, um den Aufbau und die Entwicklung von Sternen zu erforschen und Exoplaneten zu entdecken. Erleben Sie, wie Teleskope in der modernen Forschung und fürs Studium eingesetzt werden.
LOCATION:Lustbühelstraße 46, 8042 Graz
GEO:47.06702390;15.49353233
END:VEVENT
END:VCALENDAR