BEGIN:VCALENDAR
VERSION:2.0
PRODID:-//ERT//LNF26//DE
VERSION:2.0
BEGIN:VEVENT
UID:station_48_20260324T160000Z
DTSTAMP:20260422T221200Z
URL:https://ert.langenachtderforschung.at/station/48
DTSTART:20260324T160000Z
DTEND:20260424T204500Z
SUMMARY:[LNF26] Sein oder Schein – Was verraten unsere Blicke wirklich und wer findet Waldo?
DESCRIPTION:Mit Eyetracking und Facial Coding gehen wir – mit wissenschaftlicher Neugier und einer Prise Humor – den großen Fragen der Menschheit auf den Grund: Warum schauen wir, wie wir schauen? Was erzählen unsere Gesichter, wenn wir doch gar nichts sagen? Entdecke, wie viel Ausdruck in einem Blick steckt – und trainiere dabei dein ganz persönliches Adlerauge!
LOCATION:Johannes-Gutenberg-Straße 3 Innovation Lab und Area27 (J. Gutenberg-Straße 5), 2700 Wiener Neustadt
GEO:47.83811166;16.24962151
END:VEVENT
END:VCALENDAR