BEGIN:VCALENDAR
VERSION:2.0
PRODID:-//ERT//LNF26//DE
VERSION:2.0
BEGIN:VEVENT
UID:station_4803_20260324T160000Z
DTSTAMP:20260419T125700Z
URL:https://ert.langenachtderforschung.at/station/4803
DTSTART:20260324T160000Z
DTEND:20260424T210000Z
SUMMARY:[LNF26] Was macht Musik mit uns? Ein Klanglabor für Wahrnehmung, Emotion, Beziehung und Kreativität
DESCRIPTION:In dieser Station können Sie in die spannenden Themen der Musikpsychologie eintauchen. Sie haben die Möglichkeit, Ihre Musikalität und Kreativität zu testen, mehr über Emotionen beim Musikhören zu erfahren und herauszufinden, wie wichtig ähnliche Musikpräferenzen in Freundschaften und Beziehungen sind. Dabei können Sie unsere aktuellen Projekte selbst ausprobieren und erfahren, welche Ergebnisse es bereits dazu gibt.
LOCATION:Universitätsstraße 5-7, 6020 Innsbruck
GEO:47.26899430;11.39726830
END:VEVENT
END:VCALENDAR