BEGIN:VCALENDAR
VERSION:2.0
PRODID:-//ERT//LNF26//DE
VERSION:2.0
BEGIN:VEVENT
UID:station_4805_20260424T160000Z
DTSTAMP:20260419T125900Z
URL:https://ert.langenachtderforschung.at/station/4805
DTSTART:20260424T160000Z
DTEND:20260424T170000Z
SUMMARY:[LNF26] Wie verändert Stress meine Energie im Körper? Antworten aus der Mitochondrienforschung
DESCRIPTION:Herausforderungen des Alltags (Schule, Ausbildung, Beruf, Familie) werden von vielen Menschen als stressig wahrgenommen. Stress kann im Körper zu verschiedenen Veränderungen führen, darunter auch dem Gefühl von "Energielosigkeit". Um zu verstehen, wie diese Veränderungen entstehen, werden die Mitochondrien, die "Kraftwerke" unserer Zellen, vorgestellt.
LOCATION:Universitätsstraße 5-7, 6020 Innsbruck
GEO:47.26899430;11.39726830
END:VEVENT
END:VCALENDAR