BEGIN:VCALENDAR
VERSION:2.0
PRODID:-//ERT//LNF26//DE
VERSION:2.0
BEGIN:VEVENT
UID:station_4806_20260324T160000Z
DTSTAMP:20260419T142500Z
URL:https://ert.langenachtderforschung.at/station/4806
DTSTART:20260324T160000Z
DTEND:20260424T210000Z
SUMMARY:[LNF26] Mensch und Klima: Welche Rolle hat die Psychologie im Klimaschutz?
DESCRIPTION:Der Klimawandel ist naturwissenschaftlich erklärbar, Handlungen dagegen sind aber Thema der Psychologie. Wir zeigen, wie Menschen auf den Klimawandel reagieren und was ihnen hilft, sich klimaschützend zu verhalten. Sie sind eingeladen, Ihre Überzeugungen, Emotionen und Ihr Verhalten in Bezug auf den Klimawandel zu reflektieren und zu erfahren, wie sich diese wissenschaftlich einordnen lassen.
LOCATION:Universitätsstraße 5-7, 6020 Innsbruck
GEO:47.26899430;11.39726830
END:VEVENT
END:VCALENDAR