BEGIN:VCALENDAR
VERSION:2.0
PRODID:-//ERT//LNF26//DE
VERSION:2.0
BEGIN:VEVENT
UID:station_4807_20260324T160000Z
DTSTAMP:20260419T130400Z
URL:https://ert.langenachtderforschung.at/station/4807
DTSTART:20260324T160000Z
DTEND:20260424T210000Z
SUMMARY:[LNF26] Wie beeinflusst die Natur, wie wir uns fühlen, unsere Emotionen regulieren und uns umweltfreundlich verhalten?
DESCRIPTION:Erleben Sie an dieser Station, wie die Natur Ihr Gehirn, Ihre Emotionen und Ihr Verhalten beeinflusst.\nForschungsergebnisse aus der Umweltneurowissenschaft zeigen, dass die Natur Stress reduziert, positive Emotionen stärkt und die Emotionsregulation unterstützt.\nErfahren Sie hier, wie die Natur unser Erleben verändert und zugleich dazu anregt, umweltfreundlicher zu handeln.
LOCATION:Universitätsstraße 5-7, 6020 Innsbruck
GEO:47.26899430;11.39726830
END:VEVENT
END:VCALENDAR