BEGIN:VCALENDAR
VERSION:2.0
PRODID:-//ERT//LNF26//DE
VERSION:2.0
BEGIN:VEVENT
UID:station_4808_20260324T160000Z
DTSTAMP:20260419T125800Z
URL:https://ert.langenachtderforschung.at/station/4808
DTSTART:20260324T160000Z
DTEND:20260424T210000Z
SUMMARY:[LNF26] Bauchgefühle unter Stress: Kann Emotionsregulation sie verändern?
DESCRIPTION:Teilnehmer:innen erhalten einen Einblick, wie stressige, potenziell frustrierende Situationen im Labor künstlich erzeugt werden und welchen helfenden Einfluss die eigene Emotionsregulationsfähigkeit dabei spielen kann.
LOCATION:Universitätsstraße 5-7, 6020 Innsbruck
GEO:47.26899430;11.39726830
END:VEVENT
END:VCALENDAR