BEGIN:VCALENDAR
VERSION:2.0
PRODID:-//ERT//LNF26//DE
VERSION:2.0
BEGIN:VEVENT
UID:station_4810_20260324T160000Z
DTSTAMP:20260419T125800Z
URL:https://ert.langenachtderforschung.at/station/4810
DTSTART:20260324T160000Z
DTEND:20260424T210000Z
SUMMARY:[LNF26] Gesundheit im weiblichen Gehirn – was übersehen wir?
DESCRIPTION:Komm vorbei und erfahre, was uns in unserem Verständnis des Gehirns entgeht, wenn Frauen in der Forschung zu wenig berücksichtigt werden.\nIm Mittelpunkt unserer Station stehen zwei oft unterschätzte Faktoren: wie die Antibabypille Stimmung, Empathie und das Gehirn beeinflussen kann und wie häusliche Gewalt das psychische Wohlbefinden belastet und Spuren im Gehirn hinterlassen kann.
LOCATION:Universitätsstraße 5-7, 6020 Innsbruck
GEO:47.26899430;11.39726830
END:VEVENT
END:VCALENDAR