BEGIN:VCALENDAR
VERSION:2.0
PRODID:-//ERT//LNF26//DE
VERSION:2.0
BEGIN:VEVENT
UID:station_4812_20260424T153000Z
DTSTAMP:20260419T143100Z
URL:https://ert.langenachtderforschung.at/station/4812
DTSTART:20260424T153000Z
DTEND:20260424T163000Z
SUMMARY:[LNF26] Eine Reise ins Gehirn: Wie können wir mit fMRT Kognition und Emotion erforschen?
DESCRIPTION:Wie denken, fühlen und entscheiden wir – und wie lässt sich das im Gehirn sichtbar machen? Begeben Sie sich mit uns auf eine spannende Entdeckungsreise in die Neurowissenschaften und erfahren Sie, wie wir mit der funktionellen Magnetresonanztomographie (fMRT) kognitive Prozesse und Emotionen untersuchen können.
LOCATION:Universitätsstraße 5-7, 6020 Innsbruck
GEO:47.26899430;11.39726830
END:VEVENT
END:VCALENDAR