BEGIN:VCALENDAR
VERSION:2.0
PRODID:-//ERT//LNF26//DE
VERSION:2.0
BEGIN:VEVENT
UID:station_4813_20260324T160000Z
DTSTAMP:20260419T131500Z
URL:https://ert.langenachtderforschung.at/station/4813
DTSTART:20260324T160000Z
DTEND:20260424T210000Z
SUMMARY:[LNF26] Was passiert, wenn sich Schlaf und Wachsein überlappen?
DESCRIPTION:Haben Sie schon einmal beim Einschlafen oder Aufwachen das Gefühl gehabt, sich nicht bewegen zu können? Oft begleitet von Angst, Druck auf der Brust oder dem Eindruck einer fremden Präsenz. Entdecken Sie bei unserer Mitmachstation, wie Schlafparalyse entsteht, warum sie so real wirkt und welche Rolle unsere Emotionen dabei spielen.
LOCATION:Universitätsstraße 5-7, 6020 Innsbruck
GEO:47.26899430;11.39726830
END:VEVENT
END:VCALENDAR