BEGIN:VCALENDAR
VERSION:2.0
PRODID:-//ERT//LNF26//DE
VERSION:2.0
BEGIN:VEVENT
UID:station_4838_20260324T160000Z
DTSTAMP:20260420T051900Z
URL:https://ert.langenachtderforschung.at/station/4838
DTSTART:20260324T160000Z
DTEND:20260424T210000Z
SUMMARY:[LNF26] Warum beginnt gesundes Altern im Mund?
DESCRIPTION:Wie beeinflussen Zähne das Älterwerden? Entdecke, warum Mundgesundheit ein Schlüssel zu Healthy Aging ist. Bei uns erfährt man, wie Karies und Parodontitis entstehen, was Ernährung, Speichel und Lebensstil damit zu tun haben und wie moderne Forschung hilft, Zähne und Körper möglichst lange gesund zu halten.
LOCATION:Neue Stiftingtalstraße 6 (Aula und Hörsäle im Erdgeschoss), 8010 Graz
GEO:47.08049167;15.46980679
END:VEVENT
END:VCALENDAR