BEGIN:VCALENDAR
VERSION:2.0
PRODID:-//ERT//LNF26//DE
VERSION:2.0
BEGIN:VEVENT
UID:station_4850_20260324T160000Z
DTSTAMP:20260420T003100Z
URL:https://ert.langenachtderforschung.at/station/4850
DTSTART:20260324T160000Z
DTEND:20260424T210000Z
SUMMARY:[LNF26] Wie arbeiten die Millionen kleinen Helferlein unseres Mikrobioms?
DESCRIPTION:Millionen kleinste Lebewesen bevölkern unseren Körper, aber auch unsere Pflanzen und Böden. Sie sind nicht schädlich für uns, ganz im Gegenteil. Die riesengroße Gemeinschaft an Bakterien in unserer Umwelt, unseren Pflanzen, in unserem Darm halten uns gesund. Erfahre mehr über unsere winzig kleinen Helferlein, untersuche verschiedene Erden, beobachte Pflanzen beim Wachsen und koste unterschiedliche bevölkerte Pflanzen
LOCATION:Petersgasse 10-12, 8010 Graz
GEO:47.06555478;15.45280963
END:VEVENT
END:VCALENDAR