BEGIN:VCALENDAR
VERSION:2.0
PRODID:-//ERT//LNF26//DE
VERSION:2.0
BEGIN:VEVENT
UID:station_4852_20260324T160000Z
DTSTAMP:20260421T143700Z
URL:https://ert.langenachtderforschung.at/station/4852
DTSTART:20260324T160000Z
DTEND:20260424T210000Z
SUMMARY:[LNF26] Wofür braucht man 3D-Modelle in der Archäologie?
DESCRIPTION:3D-Aufnahmen und Rekonstruktionen sind in der Archäologie ein zentrales Werkzeug für die Dokumentation von Befunden und Funden, ihre wissenschaftliche Auswertung sowie für Vermittlung und Präsentation. Du siehst digitale 3D-Modelle von Wohngebäuden, Badeanlagen, einem Kalkbrennofen, einer Urne, menschlichen Schädeln und einem römischen Trinkbecher, erstellt mit SFM-, 3D- und CT-Scans.
LOCATION:Erzabt-Klotz-Straße 1 Unipark, 5020 Salzburg
GEO:47.79478290;13.05415970
END:VEVENT
END:VCALENDAR