BEGIN:VCALENDAR
VERSION:2.0
PRODID:-//ERT//LNF26//DE
VERSION:2.0
BEGIN:VEVENT
UID:station_4854_20260324T160000Z
DTSTAMP:20260420T033600Z
URL:https://ert.langenachtderforschung.at/station/4854
DTSTART:20260324T160000Z
DTEND:20260424T210000Z
SUMMARY:[LNF26] Was steckt in unserem Körper? Eine Entdeckungsreise
DESCRIPTION:Wie kann Gewebe, das bei Operationen entfernt wird, dazu beitragen, eine Krankheit zu erkennen und zu verstehen oder ein Medikament herzustellen? Diese und weitere Fragen werden mit den Besucher:innen an diesem Stand beantwortet. Weiters können Interessierte einfache Laborarbeiten und Experimente durchführen, wie Gewebeschnitte färben oder Organe unter dem Mikroskop betrachten. (KinderUniGraz)
LOCATION:Neue Stiftingtalstraße 6 (Aula und Hörsäle im Erdgeschoss), 8010 Graz
GEO:47.08049167;15.46980679
END:VEVENT
END:VCALENDAR