BEGIN:VCALENDAR
VERSION:2.0
PRODID:-//ERT//LNF26//DE
VERSION:2.0
BEGIN:VEVENT
UID:station_49_20260324T160000Z
DTSTAMP:20260422T221200Z
URL:https://ert.langenachtderforschung.at/station/49
DTSTART:20260324T160000Z
DTEND:20260424T204500Z
SUMMARY:[LNF26] Wie kann man Taschen beplotten?
DESCRIPTION:Wie kommt das Motiv aus dem Laptop auf die Tasche? Finden wir es gemeinsam heraus!
LOCATION:Johannes-Gutenberg-Straße 3 Innovation Lab und Area27 (J. Gutenberg-Straße 5), 2700 Wiener Neustadt
GEO:47.83811166;16.24962151
END:VEVENT
END:VCALENDAR