BEGIN:VCALENDAR
VERSION:2.0
PRODID:-//ERT//LNF26//DE
VERSION:2.0
BEGIN:VEVENT
UID:station_496_20260424T190000Z
DTSTAMP:20260424T072300Z
URL:https://ert.langenachtderforschung.at/station/496
DTSTART:20260424T190000Z
DTEND:20260424T203800Z
SUMMARY:[LNF26] DOKUMENTARFILM Elements of(f) Balance
DESCRIPTION:Ökologische Verflechtungen, Co-Creation, Resilienz und Kollaboration in der Natur – das ist Stoff dieses Dokumentarfilms von Othmar Schmiderer vor dem Hintergrund unserer zunehmend bedrohten Lebenswelt, die mit immensen ökologischen Herausforderungen konfrontiert ist.\n\nJenseits der Pole Nostalgie und Technofuturismus geben die Episoden des Films Einblick in natürliche Prozesse und Systeme.
LOCATION:Dr-Karl-Dorrek-Straße 30 Trakt E, 3500 Krems an der Donau
GEO:48.40851390;15.58714485
END:VEVENT
END:VCALENDAR