BEGIN:VCALENDAR
VERSION:2.0
PRODID:-//ERT//LNF26//DE
VERSION:2.0
BEGIN:VEVENT
UID:station_5_20260324T160000Z
DTSTAMP:20260422T221200Z
URL:https://ert.langenachtderforschung.at/station/5
DTSTART:20260324T160000Z
DTEND:20260424T204500Z
SUMMARY:[LNF26] Wie kann das Pflegenetzwerk in der 24-Stunden-Betreuung durch digitale Technologien optimal unterstützt und vernetzt werden?
DESCRIPTION:Im Projekt „24/7-Digital“ wird die App 24h Dialog entwickelt, um die Kommunikation in der 24-Stunden-Betreuung zu erleichtern. Die App nutzt ausgewählte KI-gestützte Übersetzungsfunktionen und ist datenschutzkonform gestaltet. Das Betreuungsnetzwerk kann damit unmittelbar in Chats, während Videoanrufen und jederzeit bei Bedarf Kommunikationsinhalte übersetzen.
LOCATION:Johannes-Gutenberg-Straße 3 Innovation Lab und Area27 (J. Gutenberg-Straße 5), 2700 Wiener Neustadt
GEO:47.83811166;16.24962151
END:VEVENT
END:VCALENDAR