BEGIN:VCALENDAR
VERSION:2.0
PRODID:-//ERT//LNF26//DE
VERSION:2.0
BEGIN:VEVENT
UID:station_5001_20260424T180000Z
DTSTAMP:20260419T130700Z
URL:https://ert.langenachtderforschung.at/station/5001
DTSTART:20260424T180000Z
DTEND:20260424T190000Z
SUMMARY:[LNF26] Was hat &#34;Harry Potter&#34; mit dem &#34;lieben Gott&#34; zu tun?
DESCRIPTION:Die Geschichten vom jungen Zauberer Harry Potter sind spannende Unterhaltung. Sie haben auch Tiefgang, beschreiben Freundschaft, Tapferkeit, Gut und Böse, berühren den Umgang mit Sterben und Tod. Aber haben sie auch etwas mit dem „lieben Gott“ oder besser gesagt mit Religion zu tun? Ich glaube schon. Wer wissen will, warum und inwiefern, ist herzlich eingeladen zu Vortrag und Gespräch.
LOCATION:Innrain 52, 6020 Innsbruck
GEO:47.26306350;11.38418912
END:VEVENT
END:VCALENDAR