BEGIN:VCALENDAR
VERSION:2.0
PRODID:-//ERT//LNF26//DE
VERSION:2.0
BEGIN:VEVENT
UID:station_5004_20260324T160000Z
DTSTAMP:20260422T173900Z
URL:https://ert.langenachtderforschung.at/station/5004
DTSTART:20260324T160000Z
DTEND:20260424T210000Z
SUMMARY:[LNF26] Welche Rolle spielen dynamische Stromtarife für die Energiewende?
DESCRIPTION:Ist es von Vorteil, einen dynamischen Stromtarif zu haben – und was ist das überhaupt?\n\nIn interaktiven Spielen finden Sie heraus, wann Haushaltsgeräte wie Waschmaschine, Geschirrspüler oder Boiler mit einem dynamischen Stromtarif am günstigsten betrieben werden können. Erleben Sie, wie Strompreise schwanken und wie Sie durch gezieltes Lastverschieben Ihre Stromkosten senken.
LOCATION:Innrain 52, 6020 Innsbruck
GEO:47.26306350;11.38418912
END:VEVENT
END:VCALENDAR