BEGIN:VCALENDAR
VERSION:2.0
PRODID:-//ERT//LNF26//DE
VERSION:2.0
BEGIN:VEVENT
UID:station_5005_20260324T160000Z
DTSTAMP:20260422T191700Z
URL:https://ert.langenachtderforschung.at/station/5005
DTSTART:20260324T160000Z
DTEND:20260424T210000Z
SUMMARY:[LNF26] Erfolg am Aktienmarkt: Können oder nur Glück? Über die Vorhersagbarkeit von Finanzmarktdaten.
DESCRIPTION:„Prognosen sind schwierig, besonders wenn sie die Zukunft betreffen“. Dieses ironische Bonmot gilt wohl insbesondere auch für die Finanzmärkte. Ist es denn überhaupt möglich, die Zukunft zumindest zu einem gewissen Grad vorherzusagen, oder basiert alles auf Zufall und Glück? An dieser Station illustrieren wir spielerisch die Rolle des Zufalls und des Potentials Prognose machen zu können.
LOCATION:Innrain 52, 6020 Innsbruck
GEO:47.26306350;11.38418912
END:VEVENT
END:VCALENDAR