BEGIN:VCALENDAR
VERSION:2.0
PRODID:-//ERT//LNF26//DE
VERSION:2.0
BEGIN:VEVENT
UID:station_5006_20260324T160000Z
DTSTAMP:20260422T174000Z
URL:https://ert.langenachtderforschung.at/station/5006
DTSTART:20260324T160000Z
DTEND:20260424T210000Z
SUMMARY:[LNF26] Froschforscher:innen - kennst du die Welt der Amphibien?
DESCRIPTION:Wir begleiten die Amphibien bei ihrer gefährlichen Wanderung von Überwinterungsplatz über Strassen und Felder bis hin zu ihren Laichplätzen. Wie viele Amphibien kannst du entdecken? Wo fühlen sie sich wohl? Was sind die größten Gefahren? Vielleicht hast du ein paar Ideen, wie wir Frosch, Kröte & Co. helfen können. Bei der Sprungstation kannst du außerdem messen, ob du so weit wie ein Grasfrosch springen kannst.
LOCATION:Innrain 52, 6020 Innsbruck
GEO:47.26306350;11.38418912
END:VEVENT
END:VCALENDAR