BEGIN:VCALENDAR
VERSION:2.0
PRODID:-//ERT//LNF26//DE
VERSION:2.0
BEGIN:VEVENT
UID:station_5007_20260324T160000Z
DTSTAMP:20260419T130500Z
URL:https://ert.langenachtderforschung.at/station/5007
DTSTART:20260324T160000Z
DTEND:20260424T210000Z
SUMMARY:[LNF26] Zufall entdecken! Statistik zum Mitmachen und Staunen.
DESCRIPTION:Mit Experimenten zum Mitmachen lassen sich eigene Erwartungen testen und die spannende Welt der Wahrscheinlichkeit entdecken. Wir zeigen, wie unterschiedlich Zufall aussehen kann und wie manche Ergebnisse unsere Intuition herausfordern.
LOCATION:Innrain 52, 6020 Innsbruck
GEO:47.26306350;11.38418912
END:VEVENT
END:VCALENDAR