BEGIN:VCALENDAR
VERSION:2.0
PRODID:-//ERT//LNF26//DE
VERSION:2.0
BEGIN:VEVENT
UID:station_5008_20260324T160000Z
DTSTAMP:20260419T130400Z
URL:https://ert.langenachtderforschung.at/station/5008
DTSTART:20260324T160000Z
DTEND:20260424T210000Z
SUMMARY:[LNF26] Online mit Köpfchen - Medienkompetenz stärken
DESCRIPTION:Im Workshop werden wichtige Kenntnisse für den sicheren Umgang mit dem Internet und Online-Medien erarbeitet, inklusive der relevanten rechtlichen und zwischenmenschlichen Aspekte. Themen sind u.a. KI, Fake News, Social Media, Urheberrecht, Datenschutz oder Online-Betrug.
LOCATION:Innrain 52, 6020 Innsbruck
GEO:47.26306350;11.38418912
END:VEVENT
END:VCALENDAR