BEGIN:VCALENDAR
VERSION:2.0
PRODID:-//ERT//LNF26//DE
VERSION:2.0
BEGIN:VEVENT
UID:station_5010_20260324T160000Z
DTSTAMP:20260419T143000Z
URL:https://ert.langenachtderforschung.at/station/5010
DTSTART:20260324T160000Z
DTEND:20260424T210000Z
SUMMARY:[LNF26] Experimentelle Wirtschaftsforschung -  Wie entscheiden wir und warum?
DESCRIPTION:Wie risikofreudig bist du? Vertraust du anderen Menschen? Warum ist es oft schwierig zu kooperieren, obwohl es für alle Beteiligten am besten wäre? Bei uns wirst du Teil von spannenden Experimenten und bekommst interessante Einblicke in die experimentelle Verhaltensforschung..
LOCATION:Innrain 52, 6020 Innsbruck
GEO:47.26306350;11.38418912
END:VEVENT
END:VCALENDAR