BEGIN:VCALENDAR
VERSION:2.0
PRODID:-//ERT//LNF26//DE
VERSION:2.0
BEGIN:VEVENT
UID:station_5011_20260324T160000Z
DTSTAMP:20260419T131500Z
URL:https://ert.langenachtderforschung.at/station/5011
DTSTART:20260324T160000Z
DTEND:20260424T210000Z
SUMMARY:[LNF26] Was ist Agrar- und Regionalsoziologie?
DESCRIPTION:An unserem Stand zeigen und erklären wir, was wir am Instutit für Soziologie innerhalb der der Forschungsgruppe Agrar- und Regionalsoziologie erforschen. Mit der Mitmachstation "Mein Frühstück - Regionalität auf dem Teller" thematisieren wir die Nachhaltigkeit von Lebensmitteln. Wann haben welche Produkte Saison? Und wie viele Kilometer legen eigentlich unsere Lebensmittel zurück?
LOCATION:Innrain 52, 6020 Innsbruck
GEO:47.26306350;11.38418912
END:VEVENT
END:VCALENDAR