BEGIN:VCALENDAR
VERSION:2.0
PRODID:-//ERT//LNF26//DE
VERSION:2.0
BEGIN:VEVENT
UID:station_5013_20260324T160000Z
DTSTAMP:20260421T083000Z
URL:https://ert.langenachtderforschung.at/station/5013
DTSTART:20260324T160000Z
DTEND:20260424T200000Z
SUMMARY:[LNF26] Siehst du was der Roboter sieht? Wie Kameras Fehler im Herstellprozess erkennen
DESCRIPTION:Roboterbasierte Schaumerkennung im Herstellprozess von Kühlgeräten
LOCATION:Dr.-Hans-Liebherr-Straße 1, 9900 Lienz
GEO:46.82813420;12.79393840
END:VEVENT
END:VCALENDAR