BEGIN:VCALENDAR
VERSION:2.0
PRODID:-//ERT//LNF26//DE
VERSION:2.0
BEGIN:VEVENT
UID:station_5014_20260324T160000Z
DTSTAMP:20260419T125700Z
URL:https://ert.langenachtderforschung.at/station/5014
DTSTART:20260324T160000Z
DTEND:20260424T210000Z
SUMMARY:[LNF26] Your opportUNIty: Deine Lehre an der Uni
DESCRIPTION:Berufsorientierung zum Anfassen 🚀\n\nEntdecken Sie an der interaktiven Mitmachstation unsere bunte Welt der Lehrberufe: Von Büro, Bibliothek und Labor über Sportadministration bis hin zu Gartenbau und Landschaftsgärtnerei\n\n👉 Kommen Sie vorbei, machen Sie mit!
LOCATION:Innrain 52, 6020 Innsbruck
GEO:47.26306350;11.38418912
END:VEVENT
END:VCALENDAR