BEGIN:VCALENDAR
VERSION:2.0
PRODID:-//ERT//LNF26//DE
VERSION:2.0
BEGIN:VEVENT
UID:station_5015_20260424T160000Z
DTSTAMP:20260419T143100Z
URL:https://ert.langenachtderforschung.at/station/5015
DTSTART:20260424T160000Z
DTEND:20260424T170000Z
SUMMARY:[LNF26] Wie können internationale Menschenrechte zu besserem Klimaschutz beitragen?
DESCRIPTION:Was haben Menschenrechte mit Klimaschutz zu tun? Der Klimawandel betrifft uns alle. Wir müssen zum Beispiel mit mehr Hitzewellen, Überschwemmungen und anderen Katastrophen rechnen. Der Vortrag erklärt, wie Gerichte Klimawandel und Menschenrechte verbinden: wie Menschen Klimaschutz einklagen können und welche Rechtsprobleme dabei entstehen.
LOCATION:Innrain 52, 6020 Innsbruck
GEO:47.26306350;11.38418912
END:VEVENT
END:VCALENDAR