BEGIN:VCALENDAR
VERSION:2.0
PRODID:-//ERT//LNF26//DE
VERSION:2.0
BEGIN:VEVENT
UID:station_5016_20260324T160000Z
DTSTAMP:20260419T125800Z
URL:https://ert.langenachtderforschung.at/station/5016
DTSTART:20260324T160000Z
DTEND:20260424T210000Z
SUMMARY:[LNF26] Welche Chancen bietet der Opfer-Täter-Dialog als umfassende Bearbeitung der Folgen einer Straftat?
DESCRIPTION:Würden Sie nach einer Straftat ein Gespräch mit dem Täter/der Täterin führen wollen? Was wäre Ihnen wichtig – Erklärung, Entschuldigung oder Wiedergutmachung? Wir stellen den Modellversuch „Opfer-Täter-Dialog“ von NEUSTART vor und laden ein, Restorative Justice interaktiv zu entdecken. Gäste erfahren, welche Fragen dabei wichtig sind, welche Chancen und Grenzen der Dialog hat und warum es Forschung dazu braucht.
LOCATION:Innrain 52, 6020 Innsbruck
GEO:47.26306350;11.38418912
END:VEVENT
END:VCALENDAR