BEGIN:VCALENDAR
VERSION:2.0
PRODID:-//ERT//LNF26//DE
VERSION:2.0
BEGIN:VEVENT
UID:station_5018_20260324T160000Z
DTSTAMP:20260419T125700Z
URL:https://ert.langenachtderforschung.at/station/5018
DTSTART:20260324T160000Z
DTEND:20260424T210000Z
SUMMARY:[LNF26] Was sind Menschenrechte?
DESCRIPTION:Die Station befasst sich mit grundsätzlichen Fragen zur Philosophie der Menschenrechte.\nDie Inhalte werden anhand eines Quiz, einer (Kinder-)Malstation sowie der Gestaltung eines Plakates vermittelt.
LOCATION:Innrain 52, 6020 Innsbruck
GEO:47.26306350;11.38418912
END:VEVENT
END:VCALENDAR