BEGIN:VCALENDAR
VERSION:2.0
PRODID:-//ERT//LNF26//DE
VERSION:2.0
BEGIN:VEVENT
UID:station_5020_20260324T160000Z
DTSTAMP:20260419T130700Z
URL:https://ert.langenachtderforschung.at/station/5020
DTSTART:20260324T160000Z
DTEND:20260424T210000Z
SUMMARY:[LNF26] Was fühlen Tiere? Und warum ist das wichtig? Kreative Mitmachstation für junge Tierforscher:innen.
DESCRIPTION:Was fühlen Tiere? Und warum ist das wichtig? Diese kreative Mitmachstation lädt junge Forscher:innen dazu ein, die Gefühlswelten der Tiere zu erkunden. Die Forschung hat dazu schon viel herausgefunden! Verpackt in Rätsel, Spiele und andere Aufgaben werden erstaunliche Erkenntnisse vermittelt. Gleichzeitig darf auch über die eigenen Gefühle gegenüber Tieren nachgedacht werden.
LOCATION:Innrain 52, 6020 Innsbruck
GEO:47.26306350;11.38418912
END:VEVENT
END:VCALENDAR