BEGIN:VCALENDAR
VERSION:2.0
PRODID:-//ERT//LNF26//DE
VERSION:2.0
BEGIN:VEVENT
UID:station_5036_20260324T160000Z
DTSTAMP:20260421T144400Z
URL:https://ert.langenachtderforschung.at/station/5036
DTSTART:20260324T160000Z
DTEND:20260424T210000Z
SUMMARY:[LNF26] Warum ist die Natur voller Kurven?
DESCRIPTION:Gerade Linien sind in der Natur selten – Kurven dominieren. Du entdeckst sie in mikroskopischen Strukturen von Pollenkörnern, Samenschalen und in komplexen Knochenformen. An dieser Station erfährst du, wie Kurven entstehen und welche Eigenschaften sie haben – und wie dieses Wissen nachhaltige Materialien inspirieren sowie bessere Implantate für die Knochenheilung ermöglichen kann.
LOCATION:Erzabt-Klotz-Straße 1 Unipark, 5020 Salzburg
GEO:47.79478290;13.05415970
END:VEVENT
END:VCALENDAR