BEGIN:VCALENDAR
VERSION:2.0
PRODID:-//ERT//LNF26//DE
VERSION:2.0
BEGIN:VEVENT
UID:station_5037_20260324T160000Z
DTSTAMP:20260421T145000Z
URL:https://ert.langenachtderforschung.at/station/5037
DTSTART:20260324T160000Z
DTEND:20260424T210000Z
SUMMARY:[LNF26] Wie macht Mathematik Systeme robust und sicher?
DESCRIPTION:Cybersicherheit, Zuverlässigkeit und Resilienz moderner IT-Systeme sind zentrale Grundlagen unseres digitalen Alltags und der heutigen Gesellschaft. Diese Eigenschaften lassen sich mit Methoden der diskreten Mathematik beschreiben und umsetzen. An dieser Station kannst du interaktiv erleben, wie diskrete Mathematik in diesen Bereichen angewendet wird und Systeme sicherer macht.
LOCATION:Erzabt-Klotz-Straße 1 Unipark, 5020 Salzburg
GEO:47.79478290;13.05415970
END:VEVENT
END:VCALENDAR