BEGIN:VCALENDAR
VERSION:2.0
PRODID:-//ERT//LNF26//DE
VERSION:2.0
BEGIN:VEVENT
UID:station_5071_20260424T161500Z
DTSTAMP:20260422T225900Z
URL:https://ert.langenachtderforschung.at/station/5071
DTSTART:20260424T161500Z
DTEND:20260424T171500Z
SUMMARY:[LNF26] Mit Krypto reich werden?
DESCRIPTION:Wie Kryptowährungen funktionieren und warum Versprechen von schnellem Reichtum oft trügen.
LOCATION:Welthandelsplatz 1 TC, 1020 Wien
GEO:48.21250068;16.41016927
END:VEVENT
END:VCALENDAR