BEGIN:VCALENDAR
VERSION:2.0
PRODID:-//ERT//LNF26//DE
VERSION:2.0
BEGIN:VEVENT
UID:station_5072_20260324T160000Z
DTSTAMP:20260420T145400Z
URL:https://ert.langenachtderforschung.at/station/5072
DTSTART:20260324T160000Z
DTEND:20260424T210000Z
SUMMARY:[LNF26] Wie wandern Tiere und Pflanzen um die Welt?
DESCRIPTION:Tier- und Pflanzen-Arten können mit menschlicher Hilfe rasch und weiträumig reisen. Und egal, ob winzig oder wunderschön – viele Neuankömmlinge haben das Potenzial, die heimische Biodiversität gehörig unter Druck zu bringen. An unserer Station sind Sie eingeladen, gemeinsam mit Biolog:innen die Vielfalt und Risiken der eingewanderten Fauna und Flora zu erkunden.
LOCATION:Universitätsplatz 3a, 8010 Graz
GEO:47.07805140;15.45052973
END:VEVENT
END:VCALENDAR