BEGIN:VCALENDAR
VERSION:2.0
PRODID:-//ERT//LNF26//DE
VERSION:2.0
BEGIN:VEVENT
UID:station_5228_20260324T160000Z
DTSTAMP:20260421T201500Z
URL:https://ert.langenachtderforschung.at/station/5228
DTSTART:20260324T160000Z
DTEND:20260424T210000Z
SUMMARY:[LNF26] Automatisches Design mittels Computersimulation: Von Flugzeugflügeln zur Plasmaphysik
DESCRIPTION:Computersimulationen haben die Art und Weise, wie wir technologische Produkte entwickeln, grundlegend verändert. Wir demonstrieren dies anhand mathematischer Algorithmen, die automatisch optimale Tragflächenprofile finden und zeigen die Verbindung zwischen Simulation und Praxis mithilfe unseres Windtunnels. Von der Simulation von Flugzeugen schlagen wir anschließend die Brücke zu Fusionsreaktoren.
LOCATION:Technikerstraße 21, 6020 Innsbruck
GEO:47.26340300;11.34477620
END:VEVENT
END:VCALENDAR