BEGIN:VCALENDAR
VERSION:2.0
PRODID:-//ERT//LNF26//DE
VERSION:2.0
BEGIN:VEVENT
UID:station_5229_20260324T160000Z
DTSTAMP:20260421T201100Z
URL:https://ert.langenachtderforschung.at/station/5229
DTSTART:20260324T160000Z
DTEND:20260424T210000Z
SUMMARY:[LNF26] Was ist die Europäische Südsternwarte?
DESCRIPTION:Die Europäische Südsternwarte betreibt mehrere Observatorien in der Atacama-Wüste in Chile und baut derzeitig das weltgrößte Teleskop der Welt. Wir erläutern die Mitwirkung Innsbrucker Astrophysiker an diesem Großprojekt. Einen ersten Eindruck des 39m Teleskops gewinnt man am Lego-Modell.
LOCATION:Technikerstraße 21, 6020 Innsbruck
GEO:47.26340300;11.34477620
END:VEVENT
END:VCALENDAR