BEGIN:VCALENDAR
VERSION:2.0
PRODID:-//ERT//LNF26//DE
VERSION:2.0
BEGIN:VEVENT
UID:station_5237_20260324T160000Z
DTSTAMP:20260419T192000Z
URL:https://ert.langenachtderforschung.at/station/5237
DTSTART:20260324T160000Z
DTEND:20260424T200000Z
SUMMARY:[LNF26] Wie funktioniert ein Wasserkraftwerk?
DESCRIPTION:An der ersten Station erhalten die Besucher:innen eine grundlegende Einführung in den Aufbau und die Funktionsweise von Wasserkraftwerken. Neben den unterschiedlichen Arten von Wasserkraftwerken werden die Komponenten eines Wasserkraftgenerators kurz erklärt.
LOCATION:Roseggergasse 12 Tor 11, 8160 Weiz
GEO:47.22257569;15.62101316
END:VEVENT
END:VCALENDAR