BEGIN:VCALENDAR
VERSION:2.0
PRODID:-//ERT//LNF26//DE
VERSION:2.0
BEGIN:VEVENT
UID:station_5253_20260424T161500Z
DTSTAMP:20260419T211000Z
URL:https://ert.langenachtderforschung.at/station/5253
DTSTART:20260424T161500Z
DTEND:20260424T163500Z
SUMMARY:[LNF26] Wie kann man Hochspannung sichtbar machen?
DESCRIPTION:Erleben Sie spektakuläre Blitzeinschläge ins Modellhaus, faszinierende Oberflächenentladungen an einem realen Statorstab und Leuchtstoffröhren, die allein im elektrischen Feld geheimnisvoll erstrahlen.\nSpannende Hochspannungs-Experimente live im Labor – Technik, die knistert, leuchtet und begeistert!
LOCATION:Roseggergasse 12 Tor 11, 8160 Weiz
GEO:47.22257569;15.62101316
END:VEVENT
END:VCALENDAR