BEGIN:VCALENDAR
VERSION:2.0
PRODID:-//ERT//LNF26//DE
VERSION:2.0
BEGIN:VEVENT
UID:station_5255_20260324T160000Z
DTSTAMP:20260420T003000Z
URL:https://ert.langenachtderforschung.at/station/5255
DTSTART:20260324T160000Z
DTEND:20260424T200000Z
SUMMARY:[LNF26] Wie misst man die Leistung eines Generators?
DESCRIPTION:Generatoren müssen im Betrieb ständig überwacht werden. Dabei werden unter anderem elektrische Ströme, Spannungen, Leistungen, Temperaturen, Luftgeschwindigkeiten und vieles mehr gemessen. Anhand anschaulicher Beispiele wird der Zusammenhang zwischen der erzeugten Energie am Generator und der verbrauchten Energie im Haushalt hergestellt und Strom „sichtbar“ gemacht.
LOCATION:Roseggergasse 12 Tor 11, 8160 Weiz
GEO:47.22257569;15.62101316
END:VEVENT
END:VCALENDAR