BEGIN:VCALENDAR
VERSION:2.0
PRODID:-//ERT//LNF26//DE
VERSION:2.0
BEGIN:VEVENT
UID:station_5258_20260324T160000Z
DTSTAMP:20260419T225400Z
URL:https://ert.langenachtderforschung.at/station/5258
DTSTART:20260324T160000Z
DTEND:20260424T200000Z
SUMMARY:[LNF26] Wie schwer ist Heavy Metal?
DESCRIPTION:Bei dieser Station sind Komponenten eines Generators in Originalgröße zu sehen. Anhand einzelner Bauteile können verschiedene Dinge erforscht werden: Wie schwer ist dieses „Heavy Metal“ wirklich? Wie viele Personen benötige ich, um einen Stator in der Waage zu halten? Was hat der Schwanz einer Schwalbe mit einem Generator zu tun? Warum braucht ein Generator auch manchmal einen Bypass?
LOCATION:Roseggergasse 12 Tor 11, 8160 Weiz
GEO:47.22257569;15.62101316
END:VEVENT
END:VCALENDAR