BEGIN:VCALENDAR
VERSION:2.0
PRODID:-//ERT//LNF26//DE
VERSION:2.0
BEGIN:VEVENT
UID:station_5278_20260324T160000Z
DTSTAMP:20260424T102700Z
URL:https://ert.langenachtderforschung.at/station/5278
DTSTART:20260324T160000Z
DTEND:20260424T203000Z
SUMMARY:[LNF26] 100% erneuerbare Energieversorgung? Schau dir an, wie das gehen könnte!
DESCRIPTION:Die Energiewende nimmt fahrt auf. PV-Anlagen werden gebaut, die Elektromobilität wächst, Wärmepumpen ermöglichen effizientes elektrisches Heizen. Um nicht mehr fossile Energie zu brauchen, ist Digitalisierung und Automatisierung erforderlich. Wir zeigen dir wichtige Technologien und Anwendungen um erneuerbare Energien bestmöglich zu nutzen.
LOCATION:Viktor Kaplan Strasse 2 TFZ, 2700 Wiener Neustadt
GEO:47.83725022;16.25247860
END:VEVENT
END:VCALENDAR