BEGIN:VCALENDAR
VERSION:2.0
PRODID:-//ERT//LNF26//DE
VERSION:2.0
BEGIN:VEVENT
UID:station_5279_20260324T160000Z
DTSTAMP:20260424T090100Z
URL:https://ert.langenachtderforschung.at/station/5279
DTSTART:20260324T160000Z
DTEND:20260424T203000Z
SUMMARY:[LNF26] Der einfachste Elektromotor der Welt - Wozu benötigen wir Magnete?
DESCRIPTION:Besucher:innen basteln in wenigen Minuten einen Elektromotor und lernen in spielerischer Form mehr über den Einsatz und die Kraft von Magneten.
LOCATION:Viktor Kaplan Strasse 2 TFZ, 2700 Wiener Neustadt
GEO:47.83725022;16.25247860
END:VEVENT
END:VCALENDAR